BEGIN:VCALENDAR
VERSION:2.0
PRODID:-//ChamberMaster//Event Calendar 2.0//EN
METHOD:PUBLISH
X-PUBLISHED-TTL:P3D
REFRESH-INTERVAL:P3D
CALSCALE:GREGORIAN
BEGIN:VEVENT
DTSTART:20260506T153000Z
DTEND:20260506T163000Z
X-MICROSOFT-CDO-ALLDAYEVENT:FALSE
SUMMARY:Freisenbruch: Building Your Cyber Defenses
DESCRIPTION:The Bermuda Chamber of Commerce is excited to partner with Freisenbruch to bring you another engaging and informative Lunch & Learn session   this time focused on building strong cyber defenses and understanding the protection that Cyber Liability insurance can offer.\n\n\n\nThis session will explore the types of cyber incidents being seen across a range of industries\, highlight current and emerging cyber risks\, and provide practical insights into how organizations can better protect themselves in an increasingly digital environment. Attendees will also hear directly from underwriting expertise and have the opportunity to ask questions in real time.\n\n\n\nWho Should Attend?\n\nThis session is ideal for business owners\, executives\, and professionals who want to better understand:\n\n\n	Cyber risks and exposures facing today's businesses\n	The role Cyber Liability insurance plays in protection and recovery\n	Common incidents and claims trends across industries\n	Practical considerations for strengthening cyber preparedness\n\n\nWhy Join Us?\n\n\n	Gain practical steps you can apply immediately\n	Ask questions and engage in real-time discussion\n	Enjoy a valuable learning experience during the lunch hour\n\n\nPresenters\n\n\n	Stephen Bonnington\, Head of Professional Liability and Cyber\, UAL\n	Marie Voysey Moss\, Vice President\, Corporate Services\, Freisenbruch
X-ALT-DESC;FMTTYPE=text/html:<div style="color: rgb(0\, 0\, 0)\; font-family: &quot\;Segoe UI&quot\;\; font-size: 14px\; line-height: 20px\;">\n<div style="color: rgb(0\, 0\, 0)\; font-family: &quot\;Segoe UI&quot\;\; font-size: 14px\; line-height: 20px\;">\n<div data-olk-copy-source="MailCompose" style="line-height: 1.2\; font-family: Aptos\, Aptos_EmbeddedFont\, Aptos_MSFontService\, Calibri\, Helvetica\, sans-serif\; font-size: 14pt\; color: rgb(0\, 0\, 0)\;"><span style="font-size:14px\;">The Bermuda Chamber of Commerce is excited to partner with <b>Freisenbruch</b>&nbsp\;to bring you another engaging and informative <b>Lunch &amp\; Learn</b>&nbsp\;session &ndash\; this time focused on <i>building strong cyber defenses and understanding the protection that Cyber Liability insurance can offer.</i><br />\n<br />\nThis session will explore <b>the types of cyber incidents being seen across a range of industries\, highlight current and emerging cyber risks\, and provide practical insights into how organizations can better protect themselves in an increasingly digital environment.</b>&nbsp\;Attendees will also hear directly from underwriting expertise and have the opportunity to ask questions in real time.<br />\n<br />\n<b>Who Should Attend?</b><br />\nThis session is ideal for business owners\, executives\, and professionals who want to better understand:</span></div>\n\n<ul>\n	<li style="font-family: Aptos\, Aptos_EmbeddedFont\, Aptos_MSFontService\, Calibri\, Helvetica\, sans-serif\; font-size: 14pt\; color: rgb(0\, 0\, 0)\;"><span style="font-size:14px\;">Cyber risks and exposures facing today&rsquo\;s businesses</span></li>\n	<li style="font-family: Aptos\, Aptos_EmbeddedFont\, Aptos_MSFontService\, Calibri\, Helvetica\, sans-serif\; font-size: 14pt\; color: rgb(0\, 0\, 0)\;"><span style="font-size:14px\;">The role Cyber Liability insurance plays in protection and recovery</span></li>\n	<li style="font-family: Aptos\, Aptos_EmbeddedFont\, Aptos_MSFontService\, Calibri\, Helvetica\, sans-serif\; font-size: 14pt\; color: rgb(0\, 0\, 0)\;"><span style="font-size:14px\;">Common incidents and claims trends across industries</span></li>\n	<li style="font-family: Aptos\, Aptos_EmbeddedFont\, Aptos_MSFontService\, Calibri\, Helvetica\, sans-serif\; font-size: 14pt\; color: rgb(0\, 0\, 0)\;"><span style="font-size:14px\;">Practical considerations for strengthening cyber preparedness</span></li>\n</ul>\n\n<div style="font-family: Aptos\, Aptos_EmbeddedFont\, Aptos_MSFontService\, Calibri\, Helvetica\, sans-serif\; font-size: 14pt\; color: rgb(0\, 0\, 0)\;"><span style="font-size:14px\;"><b>Why Join Us?</b></span></div>\n\n<ul>\n	<li style="font-family: Aptos\, Aptos_EmbeddedFont\, Aptos_MSFontService\, Calibri\, Helvetica\, sans-serif\; font-size: 14pt\; color: rgb(0\, 0\, 0)\;"><span style="font-size:14px\;">Gain practical steps you can apply immediately</span></li>\n	<li style="font-family: Aptos\, Aptos_EmbeddedFont\, Aptos_MSFontService\, Calibri\, Helvetica\, sans-serif\; font-size: 14pt\; color: rgb(0\, 0\, 0)\;"><span style="font-size:14px\;">Ask questions and engage in real-time discussion</span></li>\n	<li style="font-family: Aptos\, Aptos_EmbeddedFont\, Aptos_MSFontService\, Calibri\, Helvetica\, sans-serif\; font-size: 14pt\; color: rgb(0\, 0\, 0)\;"><span style="font-size:14px\;">Enjoy a valuable learning experience during the lunch hour</span></li>\n</ul>\n\n<div style="font-family: Aptos\, Aptos_EmbeddedFont\, Aptos_MSFontService\, Calibri\, Helvetica\, sans-serif\; font-size: 14pt\; color: rgb(0\, 0\, 0)\;"><span style="font-size:14px\;"><b>Presenters</b></span></div>\n\n<ul>\n	<li style="font-family: Aptos\, Aptos_EmbeddedFont\, Aptos_MSFontService\, Calibri\, Helvetica\, sans-serif\; font-size: 14pt\; color: rgb(0\, 0\, 0)\;"><span style="font-size:14px\;"><b>Stephen Bonnington</b>\, Head of Professional Liability and Cyber\, UAL</span></li>\n	<li style="font-family: Aptos\, Aptos_EmbeddedFont\, Aptos_MSFontService\, Calibri\, Helvetica\, sans-serif\; font-size: 14pt\; color: rgb(0\, 0\, 0)\;"><span style="font-size:14px\;"><b>Marie Voysey&#8209\;Moss</b>\, Vice President\, Corporate Services\, Freisenbruch</span></li>\n</ul>\n</div>\n</div>\n
LOCATION:Bermuda Chamber of Commerce 1 Point Pleasant Road\, Hamilton\, Bermuda HM 11
UID:e.3397.2254
SEQUENCE:3
DTSTAMP:20260420T200049Z
URL:https://www.bermudachamber.bm/events/details/freisenbruch-building-your-cyber-defenses-2254
END:VEVENT

END:VCALENDAR
